Workbook
Name _.dbf: #REF!
Name _00510: #REF!
Name _13: #REF!
Name _YE1: #REF!
Name _YS1: #REF!
Name _YS2: #REF!
Name a: #REF!
Name a1c1: #REF!,#REF!
Name aa: #REF!
Name aaa: #REF!
Name actual: #REF!
Name agmmt: #REF!
Name agmt: #REF!
Name agmt1: #REF!
Name al: #REF!
Name approve: #REF!
Name avg_days: #REF!
Name b: #REF!
Name B.dbf: #REF!
Name BD: #REF!
Name beg_day: #REF!
Name beg_day1: #REF!
Name bianzhi: #REF!
Name bianzhiriqi: #REF!
Name count: #REF!
Name cus: #REF!
Name data1: #REF!
Name data2: #REF!
Name data3: #REF!
Name Database: #REF!
Name Database1: #REF!
Name datarange: #REF!
Name day: #REF!
Name du: #REF!
Name end_day: #REF!
Name errerere: xxxChunkR16371C1+#REF!+#REF!+#REF!+#REF!+#REF!+#REF!+#REF!+#REF!+#REF!+#REF!+#REF!+#REF!+#REF!+#REF!+#REF!+#REF!+#REF!+#REF!+#REF!+#REF!+#REF!+#REF!+#REF!+#REF!+#REF!+#REF!+#REF!
Name ewefw: #REF!
Name ExRate: #REF!
Name fday: #REF!
Name fffdfdfd: #REF!
Name ffffftdftedrtgdd: xxxChunkR16309C1+#REF!+#REF!+#REF!+#REF!+#REF!+#REF!+#REF!+#REF!+#REF!+#REF!+#REF!+#REF!+#REF!+#REF!+#REF!+#REF!+#REF!+#REF!+#REF!+#REF!+#REF!+#REF!+#REF!+#REF!
Name ffghdfdfgdfgd: xxxChunkR16302C1+#REF!+#REF!+#REF!+#REF!+#REF!+#REF!+#REF!+#REF!+#REF!+#REF!+#REF!+#REF!+#REF!+#REF!+#REF!+#REF!+#REF!+#REF!+#REF!+#REF!+#REF!+#REF!+#REF!+#REF!+#REF!
Name FILETYPE: "DANTI"
Name fix2000.dbf: #REF!
Name fixlj2000.dbf: #REF!
Name fl: #REF!
Name fp: #REF!
Name frst: #REF!,#REF!
Name fu: #REF!
Name fuhe: #REF!
Name fuheriqi: #REF!
Name gao: #REF!
Name huang: #REF!
Name instalment: #REF!
Name interest: #REF!
Name interest_income: #REF!
Name kehu: #REF!
Name kemudaima: #REF!
Name kemuming: #REF!
Name kk: #REF!

Sheet 基本信息
B3: 编制单位：江西吉水农村商业银行股份有限公司
B5: 被审计期间截止日(当期): | F5: 46203
B7: 被审计期间(当期): | F7: 2026年1-6月
B9: 被审计期间截止日(前期): | F9: 46022
B11: 被审计期间(前期): | F11: 2025年度
B13: 被审计期间截止日(前期): | F13: 45657
B15: 被审计期间(前期): | F15: 2024年度

Sheet 资
B2: 资 产 负 债 表
B5: =基本信息!B3 -> 编制单位：江西吉水农村商业银行股份有限公司 | E5: 金额单位: 人民币元
B6: 项 目 | C6: 注释 | D6: 行次 | E6: =基本信息!F5 -> 46203
B7: 资产：
B8: 现金及存放中央银行款项 | C8: （一） | D8: 1 | E8: 8.4720852e+08
B9: 存放同业款项 | C9: （二） | D9: =D8+1 -> 2 | E9: 3.2883896e+08
B10: 贵金属 | D10: =D9+1 -> 3
B11: 拆出资金 | C11: （三） | D11: =D10+1 -> 4 | E11: 8.5734364e+08
B12: 衍生金融资产 | D12: =D11+1 -> 5
B13: 买入返售金融资产 | C13: （四） | D13: =D12+1 -> 6 | E13: 3.5586042e+08
B14: 持有待售资产 | D14: =D13+1 -> 7
B15: 发放贷款和垫款 | C15: （五） | D15: =D14+1 -> 8 | E15: 9.7293667e+09 | M15: =K15-L15 -> 0 | N15: =M15/L15 -> #DIV/0!
B16: 金融投资： | D16: =D15+1 -> 9
B17: 交易性金融资产 | D17: =D16+1 -> 10
B18: 债权投资 | C18: （六） | D18: =D17+1 -> 11 | E18: 5.6279193e+09
B19: 其他债权投资 | D19: =D18+1 -> 12 | E19: 0
B20: 其他权益工具投资 | C20: （七） | D20: =D19+1 -> 13 | E20: 0
B21: 长期股权投资 | D21: =D20+1 -> 14
B22: 投资性房地产 | D22: =D21+1 -> 15
B23: 固定资产 | C23: （八） | D23: =D22+1 -> 16 | E23: 1.0851892e+08
B24: 在建工程 | C24: （九） | D24: =D23+1 -> 17 | E24: 2002549.5
B25: 使用权资产 | C25: （十） | D25: =D24+1 -> 18 | E25: 293374.78
B26: 无形资产 | C26: （十一） | D26: =D25+1 -> 19 | E26: 14574828
B27: 商誉 | D27: =D26+1 -> 20
B28: 递延所得税资产 | D28: =D27+1 -> 21
B29: 其他资产 | C29: （十二） | D29: =D28+1 -> 22 | E29: 11584538
B30: 资产总计 | D30: =D29+1 -> 23 | E30: 1.7883512e+10
B31: 法定代表人： | C31: 主管会计工作负责人：
E34: =E30-债!E38 -> 0

Sheet 债
B2: 资 产 负 债 表(续)
B5: =资!B5 -> 编制单位：江西吉水农村商业银行股份有限公司 | E5: 金额单位: 人民币元
B6: 项 目 | C6: 注释 | D6: 行次 | E6: =资!E6 -> 46203
B7: 负债：
B8: 向中央银行借款 | C8: （十三） | D8: 24 | E8: 9.2525461e+08
B9: 同业及其他金融机构存放款项 | C9: （十四） | D9: =D8+1 -> 25 | E9: 100994.59
B10: 拆入资金 | D10: =D9+1 -> 26
B11: 交易性金融负债 | D11: =D10+1 -> 27
B12: 衍生金融负债 | D12: =D11+1 -> 28
B13: 卖出回购金融资产款 | C13: （十五） | D13: =D12+1 -> 29 | E13: 0
B14: 吸收存款 | C14: （十六） | D14: =D13+1 -> 30 | E14: 1.5853639e+10
B15: 应付职工薪酬 | C15: （十七） | D15: =D14+1 -> 31 | E15: 13809930
B16: 应交税费 | C16: （十八） | D16: =D15+1 -> 32 | E16: 3006120
B17: 持有待售负债 | D17: =D16+1 -> 33
B18: 预计负债 | C18: （十九） | D18: =D17+1 -> 34 | E18: 1087399.8
B19: 租赁负债 | D19: =D18+1 -> 35 | E19: 442539.76
B20: 应付债券 | D20: =D19+1 -> 36
B21: 其中：优先股 | D21: =D20+1 -> 37
B22: 永续债 | D22: =D21+1 -> 38
B23: 递延所得税负债 | D23: =D22+1 -> 39
B24: 其他负债 | C24: （二十） | D24: =D23+1 -> 40 | E24: 13303747
B25: 负债合计 | D25: =D24+1 -> 41 | E25: 1.6810644e+10
B26: 所有者权益：
B27: 股本 | C27: （二十一） | D27: =D25+1 -> 42 | E27: 251175471
B28: 其他权益工具 | D28: =D27+1 -> 43
B29: 其中：优先股 | D29: =D28+1 -> 44
B30: 永续债 | D30: =D29+1 -> 45
B31: 资本公积 | C31: （二十二） | D31: =D30+1 -> 46 | E31: 41060746
B32: 减：库存股 | D32: =D31+1 -> 47
B33: 其他综合收益 | C33: （二十三） | D33: =D32+1 -> 48 | E33: 4041795.9
B34: 盈余公积 | C34: （二十四） | D34: =D33+1 -> 49 | E34: 1.7601634e+08
B35: 一般风险准备 | C35: （二十五） | D35: =D34+1 -> 50 | E35: 4.0219589e+08
B36: 未分配利润 | C36: （二十六） | D36: =D35+1 -> 51 | E36: 1.9837749e+08
B37: 所有者权益合计 | D37: =D36+1 -> 52 | E37: 1.0728677e+09 | F37: =E37/E27 -> 4.2713873 | G37: =#REF!/#REF! -> #REF! | H37: =#REF!/#REF! -> #REF!
B38: 负债和所有者权益合计 | D38: =D37+1 -> 53 | E38: 1.7883512e+10
B39: 法定代表人： | C39: 主管会计工作负责人：

Sheet 利
B2: 利 润 表
B5: =债!B5:C5 -> 编制单位：江西吉水农村商业银行股份有限公司 | E5: 金额单位：人民币元
B6: 项 目 | C6: 注释 | D6: 行次 | E6: =基本信息!F7 -> 2026年1-6月
B7: 一、营业收入 | D7: 1 | E7: 2.4899129e+08
B8: 利息净收入 | C8: （二十七） | D8: =D7+1 -> 2 | E8: 1.8492746e+08
B9: 利息收入 | D9: =D8+1 -> 3 | E9: 2.8174596e+08
B10: 利息支出 | D10: =D9+1 -> 4 | E10: 96818498
B11: 手续费净收入 | C11: （二十八） | D11: =D10+1 -> 5 | E11: 3868319.7
B12: 手续费及佣金收入 | D12: =D11+1 -> 6 | E12: 5444588.9
B13: 手续费及佣金支出 | D13: =D12+1 -> 7 | E13: 1576269.3
B14: 投资收益（损失以“－”号填列） | C14: （二十九） | D14: =D13+1 -> 8 | E14: 60093763
B15: 其中：对联营企业和合营企业的投资收益 | D15: =D14+1 -> 9 | E15: 0
B16: 以摊余成本计量的金融资产终止确认收益 | D16: =D15+1 -> 10 | E16: 59641013
B17: 净敞口套期收益(损失以“－”号填列) | D17: =D16+1 -> 11
B18: 其他收益 | C18: （三十） | D18: =D17+1 -> 12 | E18: 64272.35
B19: 公允价值变动收益（损失以“－”号填列） | D19: =D18+1 -> 13 | E19: 0
B20: 汇兑收益（损失以“－”号填列） | D20: =D19+1 -> 14 | E20: 0
B21: 其他业务收入 | C21: （三十一） | D21: =D20+1 -> 15 | E21: 37481.5
B22: 资产处置收益(损失以“－”号填列) | D22: =D21+1 -> 16 | E22: 0
B23: 二、营业支出 | D23: =D22+1 -> 17 | E23: 2.0555088e+08
B24: 税金及附加 | C24: （三十二） | D24: =D23+1 -> 18 | E24: 840389.27
B25: 业务及管理费 | C25: （三十三） | D25: =D24+1 -> 19 | E25: 53079493
B26: 信用减值损失 | C26: （三十四） | D26: =D25+1 -> 20 | E26: 1.5160598e+08
B27: 其他资产减值损失 | D27: =D26+1 -> 21 | E27: 0
B28: 其他业务成本 | C28: （三十五） | D28: =D27+1 -> 22 | E28: 25018.65
B29: 三、营业利润（亏损以“－”号填列） | D29: =D28+1 -> 23 | E29: 43440412
B30: 加：营业外收入 | C30: （三十六） | D30: =D29+1 -> 24 | E30: 839312.78
B31: 减：营业外支出 | C31: （三十七） | D31: =D30+1 -> 25 | E31: 112762.85
B32: 四、利润总额（亏损总额以“－”号填列） | D32: =D31+1 -> 26 | E32: 44166962
B33: 减：所得税费用 | C33: （三十八） | D33: =D32+1 -> 27 | E33: 13315611
B34: 五、净利润（净亏损以“－”号填列） | D34: =D33+1 -> 28 | E34: 30851351
B35: 1．持续经营净利润(净亏损以“-”号填列) | D35: =D34+1 -> 29 | E35: 30851351
B36: 2．终止经营净利润(净亏损以“-”号填列) | D36: =D35+1 -> 30 | E36: 0
B37: 六、其他综合收益的税后净额 | C37: (三十九) | D37: =D36+1 -> 31 | E37: 459654.55
B38: （一）不能重分类进损益的其他综合收益 | D38: =D37+1 -> 32 | E38: 0
B39: 1．重新计量设定受益计划变动额 | D39: =D38+1 -> 33
B40: 2．权益法下不能转损益的其他综合收益 | D40: =D39+1 -> 34
B41: 3．其他权益工具投资公允价值变动 | D41: =D40+1 -> 35
B42: 4．企业自身信用风险公允价值变动 | D42: =D41+1 -> 36
B43: 5．其他 | D43: =D42+1 -> 37
...

Sheet 现
B2: 现 金 流 量 表
B5: =利!B5 -> 编制单位：江西吉水农村商业银行股份有限公司 | E5: 金额单位：人民币元
B6: 项 目 | C6: 注释 | D6: 行次 | E6: =利!E6 -> 2026年1-6月
B7: 一、经营活动产生的现金流量：
B8: 客户存款和同业存放款项净增加额 | D8: 1 | E8: 1.0282114e+09
B9: 向中央银行借款净增加额 | D9: =D8+1 -> 2 | E9: 100000000
B10: 向其他金融机构拆入资金净增加额 | D10: =D9+1 -> 3 | E10: 0
B11: 收取利息、手续费及佣金的现金 | D11: =D10+1 -> 4 | E11: 2.2762207e+08
B12: 回购业务资金净增加额 | D12: =D11+1 -> 5 | E12: -100000000
B13: 收到其他与经营活动有关的现金 | D13: =D12+1 -> 6 | E13: -95399096
B14: 经营活动现金流入小计 | D14: =D13+1 -> 7 | E14: 1.1604343e+09
B15: 客户贷款及垫款净增加额 | D15: =D14+1 -> 8 | E15: 5.4311058e+08
B16: 存放中央银行和同业款项净增加额 | D16: =D15+1 -> 9 | E16: 72471232
B17: 向其他金融机构拆出资金净增加额 | D17: =D16+1 -> 10
B18: 返售业务资金净增加额 | D18: =D17+1 -> 11 | E18: 359986000
B19: 支付利息、手续费及佣金的现金 | D19: =D18+1 -> 12 | E19: 1.3021812e+08
B20: 支付给职工以及为职工支付的现金 | D20: =D19+1 -> 13 | E20: 46405637
B21: 支付的各项税费 | D21: =D20+1 -> 14 | E21: 20070705
B22: 支付其他与经营活动有关的现金 | D22: =D21+1 -> 15 | E22: 13784185
B23: 经营活动现金流出小计 | D23: =D22+1 -> 16 | E23: 1.1860465e+09
B24: 经营活动产生的现金流量净额 | C24: （四十） | D24: =D23+1 -> 17 | E24: -25612142
B25: 二、投资活动产生的现金流量：
B26: 收回投资收到的现金 | D26: =D24+1 -> 18 | E26: 3.0556351e+09
B27: 取得投资收益收到的现金 | D27: =D26+1 -> 19 | E27: 1.1995756e+08
B28: 处置固定资产、无形资产和其他长期资产收回的 现金净额 | D28: =D27+1 -> 20 | E28: 3330629.8
B29: 收到其他与投资活动有关的现金 | D29: =D28+1 -> 21 | E29: 0
B30: 投资活动现金流入小计 | D30: =D29+1 -> 22 | E30: 3.1789232e+09
B31: 投资支付的现金 | D31: =D30+1 -> 23 | E31: 3.2586141e+09
B32: 购建固定资产、无形资产和其他长期资产支付的 现金 | D32: =D31+1 -> 24 | E32: 2708191.1
B33: 支付其他与投资活动有关的现金 | D33: =D32+1 -> 25 | E33: 0
B34: 投资活动现金流出小计 | D34: =D33+1 -> 26 | E34: 3.2613223e+09
B35: 投资活动产生的现金流量净额 | D35: =D34+1 -> 27 | E35: -82399073
B36: 三、筹资活动产生的现金流量：
B37: 吸收投资收到的现金 | D37: =D35+1 -> 28
B38: 发行债券收到的现金 | D38: =D37+1 -> 29
B39: 收到其他与筹资活动有关的现金 | D39: =D38+1 -> 30
B40: 筹资活动现金流入小计 | D40: =D39+1 -> 31 | E40: 0
B41: 偿还债务支付的现金 | D41: =D40+1 -> 32 | E41: 148280
B42: 分配股利、利润或偿付利息支付的现金 | D42: =D41+1 -> 33 | E42: 9019.3
B43: 支付其他与筹资活动有关的现金 | D43: =D42+1 -> 34 | E43: 0
...

Sheet 资产负债表
A1: 项目名称 | B1: 2026 | C1: 2025 | D1: 2024
A2: 资 产： | B2: —— | C2: —— | D2: ——
A3: 现金及存放中央银行款项 | B3: 8.4720852e+08 | C3: 8.4402475e+08 | D3: 7.7999363e+08
A4: 存放联行款项 | B4: 0 | C4: 0 | D4: 0
A5: 存放同业款项 | B5: 3.2883896e+08 | C5: 3.7787916e+08 | D5: 3.2259208e+08
A6: 贵金属 | B6: 0 | C6: 0 | D6: 0
A7: 拆出资金 | B7: 8.5734364e+08 | C7: 8.5612246e+08 | D7: 8.573359e+08
A8: 衍生金融资产 | B8: 0 | C8: 0 | D8: 0
A9: 买入返售金融资产 | B9: 3.5586042e+08 | C9: 0 | D9: 99823316
A10: 发放贷款和垫款 | B10: 9.7293667e+09 | C10: 9.2375223e+09 | D10: 8.2216185e+09
A11: 金融投资： | B11: —— | C11: —— | D11: ——
A12: 交易性金融资产 | B12: 0 | C12: 0 | D12: 0
A13: 债权投资 | B13: 5.6279193e+09 | C13: 5.4281977e+09 | D13: 4.1776579e+09
A14: 其他债权投资 | B14: 0 | C14: 0 | D14: 0
A15: 其他权益工具投资 | B15: 0 | C15: 0 | D15: 700000
A16: 长期股权投资 | B16: 0 | C16: 0 | D16: 0
A17: 投资性房地产 | B17: 0 | C17: 0 | D17: 0
A18: 固定资产 | B18: 1.0851892e+08 | C18: 1.1220324e+08 | D18: 1.0492923e+08
A19: 在建工程 | B19: 2002549.5 | C19: 261400 | D19: 1942861
A20: 使用权资产 | B20: 293374.78 | C20: 0 | D20: 4044.89
A21: 无形资产 | B21: 14574828 | C21: 15450304 | D21: 16587011
A22: 递延所得税资产 | B22: 0 | C22: 0 | D22: 0
A23: 其他资产 | B23: 11584538 | C23: 11593611 | D23: 35494129
A24: 资产总计 | B24: 1.7883512e+10 | C24: 1.6883255e+10 | D24: 1.4618679e+10
A25: 负 债： | B25: —— | C25: —— | D25: ——
A26: 向中央银行借款 | B26: 9.2525461e+08 | C26: 8.2086167e+08 | D26: 8.8042194e+08
A27: 联行存放款项 | B27: 0 | C27: 0 | D27: 0
A28: 同业及其他金融机构存放款项 | B28: 100994.59 | C28: 100693.81 | D28: 1974548.4
A29: 拆入资金 | B29: 0 | C29: 0 | D29: 0
A30: 交易性金融负债 | B30: 0 | C30: 0 | D30: 0
A31: 衍生金融负债 | B31: 0 | C31: 0 | D31: 0
A32: 卖出回购金融资产款 | B32: 0 | C32: 1.0000893e+08 | D32: 0
A33: 吸收存款 | B33: 1.5853639e+10 | C33: 1.486235e+10 | D33: 1.2685677e+10
A34: 应付职工薪酬 | B34: 13809930 | C34: 23250785 | D34: 18036692
A35: 应交税费 | B35: 3006120 | C35: 20881792 | D35: 27030012
A36: 租赁负债 | B36: 442539.76 | C36: 0 | D36: 0
A37: 预计负债 | B37: 1087399.8 | C37: 989121.17 | D37: 503510.08
... A41: 负债总计 | B41: 1.6810644e+10 | C41: 1.5841698e+10 | D41: 1.3623436e+10
A42: 所有者权益： | B42: —— | C42: —— | D42: ——
A43: 实收资本（股本） | B43: 251175471 | C43: 251175471 | D43: 234743431
...

Sheet 利润表
A1: 项目名称 | B1: 2026 | C1: 2025 | D1: 2024
A2: 一、营业收入 | B2: 2.4899129e+08 | C2: 4.0240266e+08 | D2: 4.0510631e+08
A3: （一）利息净收入 | B3: 1.8492746e+08 | C3: 3.3533788e+08 | D3: 3.3177473e+08
A4: 利息收入 | B4: 2.8174596e+08 | C4: 5.3901057e+08 | D4: 5.4399506e+08
A5: 利息支出 | B5: 96818498 | C5: 2.0367269e+08 | D5: 2.1222033e+08
A6: （二）手续费及佣金净收入 | B6: 3868319.7 | C6: 1095426.1 | D6: 621454.97
A7: 手续费及佣金收入 | B7: 5444588.9 | C7: 5734219.7 | D7: 6518086.1
A8: 手续费及佣金支出 | B8: 1576269.3 | C8: 4638793.6 | D8: 5896631.1
A9: （三）投资收益 | B9: 60093763 | C9: 65438131 | D9: 72463890
A10: 对联营企业和合营企业的投资收益 | B10: 0 | C10: 0 | D10: 0
A11: 以摊余成本计量的金融资产终止确认产生的收益 | B11: 59641013 | C11: 65438081 | D11: 47821067
A12: 其他投资收益 | B12: 452750.24 | C12: 49.35 | D12: 24642823
... A44: 九、未分配利润 | B44: 1.9837749e+08 | C44: 1.6752614e+08 | D44: 1.3926399e+08
A47: 校核 | B47: 0

Sheet 现金流量表
A1: 项目名称 | B1: 本期数（审定） | C1: 2025 | D1: 2024
A2: 一、经营活动产生的现金流量： | B2: —— | C2: —— | D2: ——
A3: 客户存款和同业存放款项净增加额 | B3: 1.0282114e+09 | C3: 2.1904195e+09 | D3: 6.970714e+08
A4: 向中央银行借款净增加额 | B4: 100000000 | C4: -60000000 | D4: 280000000
A5: 向其他金融机构拆入资金净增加额 | B5: 0 | C5: 0 | D5: 0
A6: 收取利息、手续费及佣金的现金 | B6: 2.2762207e+08 | C6: 4.3509938e+08 | D6: 4.4097002e+08
A7: 拆入资金净增加额 | B7: 0 | C7: 0 | D7: 0
A8: 回购业务资金净增加额 | B8: -100000000 | C8: 100000000 | D8: 0
A9: 收到其他与经营活动有关的现金 | B9: -95399096 | C9: -96575849 | D9: -99534488
A10: 经营活动现金流入小计 | B10: 1.1604343e+09 | C10: 2.568943e+09 | D10: 1.3185069e+09
A11: 客户贷款及垫款净增加额 | B11: 5.4311058e+08 | C11: 1.0915043e+09 | D11: 7.7080656e+08
A12: 存放中央银行和同业款项净增加额 | B12: 72471232 | C12: 1.1304113e+08 | D12: 39838007
A13: 为交易目的而持有的金融资产净增加额 | B13: 0 | C13: 0 | D13: 0
A14: 拆出资金净增加额 | B14: 0 | C14: 0 | D14: 70000000
... A21: 经营活动产生的现金流量净额 | B21: -25612142 | C21: 1.0920747e+09 | D21: -52025435
A22: 二、投资活动产生的现金流量： | B22: —— | C22: —— | D22: ——
A23: 收回投资收到的现金 | B23: 3.0556351e+09 | C23: 3.9582835e+09 | D23: 4.0287699e+09
A24: 取得投资收益收到的现金 | B24: 1.1995756e+08 | C24: 1.8168759e+08 | D24: 1.6046737e+08
A25: 处置固定资产、无形资产和其他长期资产收回的现金净额 | B25: 3330629.8 | C25: 5922217.6 | D25: 1262033.1
A26: 处置子公司及其他营业单位收到的现金净额 | B26: 0 | C26: 0 | D26: 0
A27: 收到其他与投资活动有关的现金 | B27: 0 | C27: 0 | D27: 0
A28: 投资活动现金流入小计 | B28: 3.1789232e+09 | C28: 4.1458933e+09 | D28: 4.1904993e+09
A29: 投资支付的现金 | B29: 3.2586141e+09 | C29: 5.1947155e+09 | D29: 4.1497073e+09
A30: 购建固定资产、无形资产和其他长期资产支付的现金 | B30: 2708191.1 | C30: 17633160 | D30: 7449926.2
A31: 取得子公司及其他营业单位支付的现金净额 | B31: 0 | C31: 0 | D31: 0
A32: 支付其他与投资活动有关的现金 | B32: 0 | C32: 0 | D32: 0
A33: 投资活动现金流出小计 | B33: 3.2613223e+09 | C33: 5.2123486e+09 | D33: 4.1571572e+09
A34: 投资活动产生的现金流量净额 | B34: -82399073 | C34: -1.0664553e+09 | D34: 33342158
A35: 三、筹资活动产生的现金流量： | B35: —— | C35: —— | D35: ——
A36: 吸收投资收到的现金 | B36: 0 | C36: 0 | D36: 0
A37: 发行债券收到的现金 | B37: 0 | C37: 0 | D37: 0
A38: 收到其他与筹资活动有关的现金 | B38: 0 | C38: 0 | D38: 0
A39: 筹资活动现金流入小计 | B39: 0 | C39: 0 | D39: 0
A40: 偿还债务支付的现金 | B40: 148280 | C40: 336743 | D40: 25426.2
A41: 分配股利、利润或偿付利息支付的现金 | B41: 9019.3 | C41: 21025540 | D41: 21292056
A42: 支付其他与筹资活动有关的现金 | B42: 0 | C42: 0 | D42: 0
A43: 筹资活动现金流出小计 | B43: 157299.3 | C43: 21362283 | D43: 21317482
A44: 筹资活动产生的现金流量净额 | B44: -157299.3 | C44: -21362283 | D44: -21317482
A45: 四、汇率变动对现金及现金等价物的影响 | B45: 0 | C45: 0 | D45: 0
A46: 五、现金及现金等价物净增加额 | B46: -1.0816851e+08 | C46: 4257124.3 | D46: -40000759
...
